BEGIN:VCALENDAR
VERSION:2.0
PRODID:-//Deeper Life Borough - ECPv6.15.19//NONSGML v1.0//EN
CALSCALE:GREGORIAN
METHOD:PUBLISH
X-ORIGINAL-URL:https://deeperlifeclapham.org
X-WR-CALDESC:Events for Deeper Life Borough
REFRESH-INTERVAL;VALUE=DURATION:PT1H
X-Robots-Tag:noindex
X-PUBLISHED-TTL:PT1H
BEGIN:VTIMEZONE
TZID:Europe/London
BEGIN:DAYLIGHT
TZOFFSETFROM:+0000
TZOFFSETTO:+0100
TZNAME:BST
DTSTART:20240331T010000
END:DAYLIGHT
BEGIN:STANDARD
TZOFFSETFROM:+0100
TZOFFSETTO:+0000
TZNAME:GMT
DTSTART:20241027T010000
END:STANDARD
BEGIN:DAYLIGHT
TZOFFSETFROM:+0000
TZOFFSETTO:+0100
TZNAME:BST
DTSTART:20250330T010000
END:DAYLIGHT
BEGIN:STANDARD
TZOFFSETFROM:+0100
TZOFFSETTO:+0000
TZNAME:GMT
DTSTART:20251026T010000
END:STANDARD
BEGIN:DAYLIGHT
TZOFFSETFROM:+0000
TZOFFSETTO:+0100
TZNAME:BST
DTSTART:20260329T010000
END:DAYLIGHT
BEGIN:STANDARD
TZOFFSETFROM:+0100
TZOFFSETTO:+0000
TZNAME:GMT
DTSTART:20261025T010000
END:STANDARD
END:VTIMEZONE
BEGIN:VTIMEZONE
TZID:UTC
BEGIN:STANDARD
TZOFFSETFROM:+0000
TZOFFSETTO:+0000
TZNAME:UTC
DTSTART:20230101T000000
END:STANDARD
END:VTIMEZONE
BEGIN:VEVENT
DTSTART;TZID=Europe/London:20250927T153000
DTEND;TZID=Europe/London:20250927T190000
DTSTAMP:20260424T035118
CREATED:20241218T200315Z
LAST-MODIFIED:20241218T200316Z
UID:2525-1758987000-1758999600@deeperlifeclapham.org
SUMMARY:Workers' Meeting
DESCRIPTION:
URL:https://deeperlifeclapham.org/https-deeperlifeclapham-org-upcoming-events/workers-meeting-6/
CATEGORIES:Regional,Workers’ Meeting
END:VEVENT
BEGIN:VEVENT
DTSTART;TZID=Europe/London:20250906T153000
DTEND;TZID=Europe/London:20250906T190000
DTSTAMP:20260424T035118
CREATED:20241218T200015Z
LAST-MODIFIED:20241218T200016Z
UID:2521-1757172600-1757185200@deeperlifeclapham.org
SUMMARY:Workers' Meeting
DESCRIPTION:
URL:https://deeperlifeclapham.org/https-deeperlifeclapham-org-upcoming-events/workers-meeting-5/
CATEGORIES:Regional,Workers’ Meeting
END:VEVENT
BEGIN:VEVENT
DTSTART;TZID=Europe/London:20250905T000000
DTEND;TZID=Europe/London:20250905T235959
DTSTAMP:20260424T035118
CREATED:20241218T195908Z
LAST-MODIFIED:20241218T195908Z
UID:2519-1757030400-1757116799@deeperlifeclapham.org
SUMMARY:Group Night Vigil
DESCRIPTION:Time TBD
URL:https://deeperlifeclapham.org/https-deeperlifeclapham-org-upcoming-events/group-night-vigil/
CATEGORIES:Night Vigil,Regional
END:VEVENT
BEGIN:VEVENT
DTSTART;TZID=Europe/London:20250823T000000
DTEND;TZID=Europe/London:20250823T235959
DTSTAMP:20260424T035118
CREATED:20241218T195032Z
LAST-MODIFIED:20241218T195032Z
UID:2512-1755907200-1755993599@deeperlifeclapham.org
SUMMARY:Group Evangelism II
DESCRIPTION:TBD
URL:https://deeperlifeclapham.org/https-deeperlifeclapham-org-upcoming-events/group-evangelism-ii/
CATEGORIES:Evangelism,Regional,Special Events
END:VEVENT
BEGIN:VEVENT
DTSTART;TZID=Europe/London:20250816T153000
DTEND;TZID=Europe/London:20250816T190000
DTSTAMP:20260424T035118
CREATED:20241218T194936Z
LAST-MODIFIED:20241218T194937Z
UID:2510-1755358200-1755370800@deeperlifeclapham.org
SUMMARY:Workers' Meeting
DESCRIPTION:
URL:https://deeperlifeclapham.org/https-deeperlifeclapham-org-upcoming-events/workers-meeting-4/
CATEGORIES:Regional,Workers’ Meeting
END:VEVENT
BEGIN:VEVENT
DTSTART;TZID=Europe/London:20250809T000000
DTEND;TZID=Europe/London:20250809T235959
DTSTAMP:20260424T035118
CREATED:20241218T194815Z
LAST-MODIFIED:20241218T194816Z
UID:2508-1754697600-1754783999@deeperlifeclapham.org
SUMMARY:Women of Valour
DESCRIPTION:TBD
URL:https://deeperlifeclapham.org/https-deeperlifeclapham-org-upcoming-events/women-of-valour/
CATEGORIES:Regional,Special Events,Women
END:VEVENT
BEGIN:VEVENT
DTSTART;TZID=Europe/London:20250802T153000
DTEND;TZID=Europe/London:20250802T190000
DTSTAMP:20260424T035118
CREATED:20241218T194510Z
LAST-MODIFIED:20241218T194511Z
UID:2504-1754148600-1754161200@deeperlifeclapham.org
SUMMARY:Workers' Meeting
DESCRIPTION:
URL:https://deeperlifeclapham.org/https-deeperlifeclapham-org-upcoming-events/workers-meeting-3/
CATEGORIES:Regional,Workers’ Meeting
END:VEVENT
BEGIN:VEVENT
DTSTART;TZID=Europe/London:20250719T153000
DTEND;TZID=Europe/London:20250719T190000
DTSTAMP:20260424T035118
CREATED:20241218T193422Z
LAST-MODIFIED:20241218T193906Z
UID:2496-1752939000-1752951600@deeperlifeclapham.org
SUMMARY:Workers' Meeting
DESCRIPTION:
URL:https://deeperlifeclapham.org/https-deeperlifeclapham-org-upcoming-events/workers-meeting-2/
CATEGORIES:Regional,Workers’ Meeting
END:VEVENT
BEGIN:VEVENT
DTSTART;TZID=UTC:20250719T140000
DTEND;TZID=UTC:20250719T173000
DTSTAMP:20260424T035118
CREATED:20241218T193321Z
LAST-MODIFIED:20250601T210505Z
UID:2494-1752933600-1752946200@deeperlifeclapham.org
SUMMARY:Living Hope Concert 2025
DESCRIPTION:Get ready for an unforgettable afternoon as Living Hope Concert returns—reimagined\, remastered and better than ever! \n\n\n\n \n\n\n\n\n\n\n\nJoin DLBC Greater London Young Adults at Living Hope 2025: A Soul-stirring Journey of Grace and Redemption 🎤🕊 \n\n\n\n🗓️ Saturday July 19\, 2025 \n\n\n\n⏰Doors Open at 1:30 PM \n\n\n\n📍Transformation House\, 66 St John’s Hill\, Clapham\, London\, SW11 1AD \n\n\n\nExperience: \n\n\n\n💙 Uplifting praise and restorative worship \n\n\n\n💙 Breathtaking solos and duets \n\n\n\n💙 Instrumentals and harmonious choir performances \n\n\n\n💙 Unique storytelling of the Prodigal Son from the brother’s perspective \n\n\n\n💙 Captivating narration \n\n\n\nWhy you should attend: \n\n\n\n🔥 Be a part of a powerful live worship experience \n\n\n\n✨Be stirred by a message of forgiveness and acceptance \n\n\n\n🙏 Connect with the community in a meaningful way  \n\n\n\n🙌 Leave inspired\, uplifted\, and renewed \n\n\n\nFREE ENTRY…hurry\, register and secure your ticket now! https://www.eventbrite.co.uk/e/living-hope-concert-2025-tickets-1330747223769 \n\n\n\n📲 Follow us for updates: \n\n\n\nInstagram: @dclm_hounslow_yaf
URL:https://deeperlifeclapham.org/https-deeperlifeclapham-org-upcoming-events/young-adult-programme/
LOCATION:Transformation House (HQ)\, 66 St John's Hill\, London\, SW11 1AD\, United Kingdom
CATEGORIES:Regional,Special Events,Young Adults
END:VEVENT
BEGIN:VEVENT
DTSTART;TZID=Europe/London:20250705T153000
DTEND;TZID=Europe/London:20250705T190000
DTSTAMP:20260424T035118
CREATED:20241218T193215Z
LAST-MODIFIED:20241218T193216Z
UID:2492-1751729400-1751742000@deeperlifeclapham.org
SUMMARY:Workers' Meeting
DESCRIPTION:
URL:https://deeperlifeclapham.org/https-deeperlifeclapham-org-upcoming-events/workers-meeting/
CATEGORIES:Regional,Workers’ Meeting
END:VEVENT
BEGIN:VEVENT
DTSTART;TZID=Europe/London:20250321T230000
DTEND;TZID=Europe/London:20250322T000000
DTSTAMP:20260424T035118
CREATED:20241219T173045Z
LAST-MODIFIED:20241219T173823Z
UID:2561-1742598000-1742601600@deeperlifeclapham.org
SUMMARY:Group Night Vigil
DESCRIPTION:Zoom Regional Night Vigil
URL:https://deeperlifeclapham.org/https-deeperlifeclapham-org-upcoming-events/group-night-vigil-2/
CATEGORIES:Night Vigil,Online,Regional
END:VEVENT
BEGIN:VEVENT
DTSTART;TZID=Europe/London:20250315T153000
DTEND;TZID=Europe/London:20250315T180000
DTSTAMP:20260424T035118
CREATED:20241219T172642Z
LAST-MODIFIED:20241219T173731Z
UID:2559-1742052600-1742061600@deeperlifeclapham.org
SUMMARY:Worker's Meeting
DESCRIPTION:Fortnightly Workers Meeting
URL:https://deeperlifeclapham.org/https-deeperlifeclapham-org-upcoming-events/workers-meeting-12/
CATEGORIES:Online,Regional,Workers’ Meeting
END:VEVENT
BEGIN:VEVENT
DTSTART;TZID=Europe/London:20250308T090000
DTEND;TZID=Europe/London:20250308T170000
DTSTAMP:20260424T035118
CREATED:20241219T172433Z
LAST-MODIFIED:20241219T173838Z
UID:2557-1741424400-1741453200@deeperlifeclapham.org
SUMMARY:IGNITE (Young Adult)
DESCRIPTION:Details: TBC
URL:https://deeperlifeclapham.org/https-deeperlifeclapham-org-upcoming-events/ignite-young-adult/
CATEGORIES:Regional,Special Events,Young Adults
END:VEVENT
BEGIN:VEVENT
DTSTART;TZID=Europe/London:20250307T000000
DTEND;TZID=Europe/London:20250309T235959
DTSTAMP:20260424T035118
CREATED:20241219T172020Z
LAST-MODIFIED:20241219T173854Z
UID:2555-1741305600-1741564799@deeperlifeclapham.org
SUMMARY:RO's & Wives Prayer Retreat
DESCRIPTION:Details: TBC
URL:https://deeperlifeclapham.org/https-deeperlifeclapham-org-upcoming-events/ros-wives-prayer-retreat/
CATEGORIES:Regional,Special Events
END:VEVENT
BEGIN:VEVENT
DTSTART;TZID=Europe/London:20250302T093000
DTEND;TZID=Europe/London:20250302T130000
DTSTAMP:20260424T035118
CREATED:20241219T171908Z
LAST-MODIFIED:20241219T173932Z
UID:2553-1740907800-1740920400@deeperlifeclapham.org
SUMMARY:Combined Service
DESCRIPTION:Regional Combined Service
URL:https://deeperlifeclapham.org/https-deeperlifeclapham-org-upcoming-events/combined-service/
CATEGORIES:Combined Service,Regional
END:VEVENT
BEGIN:VEVENT
DTSTART;TZID=Europe/London:20250301T153000
DTEND;TZID=Europe/London:20250301T180000
DTSTAMP:20260424T035118
CREATED:20241219T171546Z
LAST-MODIFIED:20241219T173746Z
UID:2551-1740843000-1740852000@deeperlifeclapham.org
SUMMARY:Worker's Meeting
DESCRIPTION:Fortnightly Workers Meeting
URL:https://deeperlifeclapham.org/https-deeperlifeclapham-org-upcoming-events/workers-meeting-11/
CATEGORIES:Online,Regional,Young Adults
END:VEVENT
BEGIN:VEVENT
DTSTART;TZID=Europe/London:20250301T000000
DTEND;TZID=Europe/London:20250331T235959
DTSTAMP:20260424T035118
CREATED:20241219T171343Z
LAST-MODIFIED:20241219T173944Z
UID:2549-1740787200-1743465599@deeperlifeclapham.org
SUMMARY:Fasting & Prayer
DESCRIPTION:March Regional Fasting & Prayer
URL:https://deeperlifeclapham.org/https-deeperlifeclapham-org-upcoming-events/fasting-prayer/
CATEGORIES:Online,Regional
END:VEVENT
BEGIN:VEVENT
DTSTART;TZID=Europe/London:20250228T090000
DTEND;TZID=Europe/London:20250301T170000
DTSTAMP:20260424T035118
CREATED:20241219T170933Z
LAST-MODIFIED:20241219T173957Z
UID:2545-1740733200-1740848400@deeperlifeclapham.org
SUMMARY:Mini Congress
DESCRIPTION:Details: TBC
URL:https://deeperlifeclapham.org/https-deeperlifeclapham-org-upcoming-events/mini-congress/
CATEGORIES:Regional,Special Events
END:VEVENT
BEGIN:VEVENT
DTSTART;TZID=Europe/London:20250222T153000
DTEND;TZID=Europe/London:20250222T180000
DTSTAMP:20260424T035118
CREATED:20241219T170742Z
LAST-MODIFIED:20241219T174108Z
UID:2543-1740238200-1740247200@deeperlifeclapham.org
SUMMARY:Worker's Meeting
DESCRIPTION:Fortnightly Workers Meeting
URL:https://deeperlifeclapham.org/https-deeperlifeclapham-org-upcoming-events/workers-meeting-10/
CATEGORIES:Online,Regional,Workers’ Meeting
END:VEVENT
BEGIN:VEVENT
DTSTART;TZID=Europe/London:20250201T153000
DTEND;TZID=Europe/London:20250201T180000
DTSTAMP:20260424T035118
CREATED:20241219T170624Z
LAST-MODIFIED:20241219T174149Z
UID:2541-1738423800-1738432800@deeperlifeclapham.org
SUMMARY:Worker's Meeting
DESCRIPTION:Fortnightly Workers Meeting
URL:https://deeperlifeclapham.org/https-deeperlifeclapham-org-upcoming-events/workers-meeting-9/
CATEGORIES:Online,Regional,Workers’ Meeting
END:VEVENT
BEGIN:VEVENT
DTSTART;TZID=Europe/London:20250125T153000
DTEND;TZID=Europe/London:20250125T180000
DTSTAMP:20260424T035118
CREATED:20241219T170212Z
LAST-MODIFIED:20241219T174203Z
UID:2537-1737819000-1737828000@deeperlifeclapham.org
SUMMARY:Worker's Meeting
DESCRIPTION:Fortnightly Workers Meeting
URL:https://deeperlifeclapham.org/https-deeperlifeclapham-org-upcoming-events/workers-meeting-8/
CATEGORIES:Online,Regional,Workers’ Meeting
END:VEVENT
BEGIN:VEVENT
DTSTART;TZID=Europe/London:20250111T153000
DTEND;TZID=Europe/London:20250111T180000
DTSTAMP:20260424T035118
CREATED:20241219T165919Z
LAST-MODIFIED:20241219T174319Z
UID:2533-1736609400-1736618400@deeperlifeclapham.org
SUMMARY:Workers Meeting
DESCRIPTION:Monthly Workers meeting
URL:https://deeperlifeclapham.org/https-deeperlifeclapham-org-upcoming-events/workers-meeting-7/
CATEGORIES:Online,Regional,Workers’ Meeting
END:VEVENT
BEGIN:VEVENT
DTSTART;TZID=UTC:20241214T153000
DTEND;TZID=UTC:20241214T200000
DTSTAMP:20260424T035118
CREATED:20240407T182727Z
LAST-MODIFIED:20240522T182434Z
UID:2097-1734190200-1734206400@deeperlifeclapham.org
SUMMARY:Workers' Meeting - 14th Dec Regional Programme
DESCRIPTION:Regional Programme \nZoom Meeting ID: 396 569 886\nPasscode: 252166
URL:https://deeperlifeclapham.org/https-deeperlifeclapham-org-upcoming-events/workers-meeting-14th-dec-regional-programme/
CATEGORIES:Regional,Workers’ Meeting
END:VEVENT
BEGIN:VEVENT
DTSTART;TZID=UTC:20241201T153000
DTEND;TZID=UTC:20241201T183000
DTSTAMP:20260424T035118
CREATED:20240407T182648Z
LAST-MODIFIED:20240522T182434Z
UID:2095-1733067000-1733077800@deeperlifeclapham.org
SUMMARY:Workers' Meeting - 07 Dec Regional Programme
DESCRIPTION:Regional Programme \nZoom Meeting ID: 396 569 886\nPasscode: 252166
URL:https://deeperlifeclapham.org/https-deeperlifeclapham-org-upcoming-events/workers-meeting-07-dec-regional-programme/
CATEGORIES:Regional,Workers’ Meeting
END:VEVENT
BEGIN:VEVENT
DTSTART;TZID=UTC:20241129T230000
DTEND;TZID=UTC:20241130T010000
DTSTAMP:20260424T035118
CREATED:20240407T182607Z
LAST-MODIFIED:20240522T182510Z
UID:2093-1732921200-1732928400@deeperlifeclapham.org
SUMMARY:Group Night Vigil - 29 Nov Regional Programme
DESCRIPTION:Regional Programme \nZoom Meeting ID: 396 569 886\nPasscode: 252166
URL:https://deeperlifeclapham.org/https-deeperlifeclapham-org-upcoming-events/group-night-vigil-29-nov-regional-programme/
CATEGORIES:Night Vigil,Regional
END:VEVENT
BEGIN:VEVENT
DTSTART;TZID=UTC:20241116T153000
DTEND;TZID=UTC:20241116T180000
DTSTAMP:20260424T035118
CREATED:20240407T182404Z
LAST-MODIFIED:20240522T182434Z
UID:2088-1731771000-1731780000@deeperlifeclapham.org
SUMMARY:Workers Meeting - 16 Nov Regional Programme
DESCRIPTION:Regional Programme \nZoom Meeting ID: 396 569 886\nPasscode: 252166
URL:https://deeperlifeclapham.org/https-deeperlifeclapham-org-upcoming-events/workers-meeting-16-nov-regional-programme/
CATEGORIES:Regional,Workers’ Meeting
END:VEVENT
BEGIN:VEVENT
DTSTART;TZID=UTC:20241114T000000
DTEND;TZID=UTC:20241116T235959
DTSTAMP:20260424T035118
CREATED:20240407T182324Z
LAST-MODIFIED:20240522T182446Z
UID:2086-1731542400-1731801599@deeperlifeclapham.org
SUMMARY:Pastors Away Weekend - 14-16 Nov Regional Programme
DESCRIPTION:Regional Programme \nDetails: TBC
URL:https://deeperlifeclapham.org/https-deeperlifeclapham-org-upcoming-events/pastors-away-weekend-14-16-nov-regional-programme/
CATEGORIES:Regional
END:VEVENT
BEGIN:VEVENT
DTSTART;TZID=UTC:20241102T153000
DTEND;TZID=UTC:20241102T180000
DTSTAMP:20260424T035118
CREATED:20240407T182239Z
LAST-MODIFIED:20240522T182434Z
UID:2084-1730561400-1730570400@deeperlifeclapham.org
SUMMARY:Workers' Meeting - 02 Nov Regional Programme
DESCRIPTION:Regional Programme \nZoom Meeting ID: 396 569 886\nPasscode: 252166
URL:https://deeperlifeclapham.org/https-deeperlifeclapham-org-upcoming-events/workers-meeting-02-nov-regional-programme/
CATEGORIES:Regional,Workers’ Meeting
END:VEVENT
BEGIN:VEVENT
DTSTART;TZID=UTC:20241101T210000
DTEND;TZID=UTC:20241130T220000
DTSTAMP:20260424T035118
CREATED:20240407T182130Z
LAST-MODIFIED:20240522T182110Z
UID:2082-1730494800-1733004000@deeperlifeclapham.org
SUMMARY:Fasting and Praying - 1-30 Nov Regional Programme
DESCRIPTION:Regional Programme (Whole month) \nZoom Meeting ID: 396 569 886\nPasscode: 252166
URL:https://deeperlifeclapham.org/https-deeperlifeclapham-org-upcoming-events/fasting-and-praying-1-30-nov-regional-programme/
CATEGORIES:Regional
END:VEVENT
BEGIN:VEVENT
DTSTART;TZID=UTC:20241020T093000
DTEND;TZID=UTC:20241020T130000
DTSTAMP:20260424T035118
CREATED:20240407T181525Z
LAST-MODIFIED:20240522T182041Z
UID:2075-1729416600-1729429200@deeperlifeclapham.org
SUMMARY:Combined Service - 20 Oct Regional Programme
DESCRIPTION:Regional Programme – In person
URL:https://deeperlifeclapham.org/https-deeperlifeclapham-org-upcoming-events/combined-service-20-oct-regional-programme/
LOCATION:Transformation House (HQ)\, 66 St John's Hill\, London\, SW11 1AD\, United Kingdom
CATEGORIES:Combined Service,Regional
END:VEVENT
END:VCALENDAR