BEGIN:VCALENDAR
VERSION:2.0
PRODID:-//Deeper Life Borough - ECPv6.15.19//NONSGML v1.0//EN
CALSCALE:GREGORIAN
METHOD:PUBLISH
X-WR-CALNAME:Deeper Life Borough
X-ORIGINAL-URL:https://deeperlifeclapham.org
X-WR-CALDESC:Events for Deeper Life Borough
REFRESH-INTERVAL;VALUE=DURATION:PT1H
X-Robots-Tag:noindex
X-PUBLISHED-TTL:PT1H
BEGIN:VTIMEZONE
TZID:UTC
BEGIN:STANDARD
TZOFFSETFROM:+0000
TZOFFSETTO:+0000
TZNAME:UTC
DTSTART:20230101T000000
END:STANDARD
END:VTIMEZONE
BEGIN:VEVENT
DTSTART;TZID=UTC:20240907T120000
DTEND;TZID=UTC:20240907T153000
DTSTAMP:20260424T083344
CREATED:20240407T180753Z
LAST-MODIFIED:20240522T181956Z
UID:2060-1725710400-1725723000@deeperlifeclapham.org
SUMMARY:Salisbury Evangelism - 07 Sep Regional Programme
DESCRIPTION:Regional Programme – In person \nLocation: TBC
URL:https://deeperlifeclapham.org/https-deeperlifeclapham-org-upcoming-events/salisbury-evangelism-07-sep-regional-programme/
CATEGORIES:Evangelism,Regional,Salisbury
END:VEVENT
BEGIN:VEVENT
DTSTART;TZID=UTC:20240827T000000
DTEND;TZID=UTC:20240831T235959
DTSTAMP:20260424T083344
CREATED:20240407T180436Z
LAST-MODIFIED:20240522T181942Z
UID:2056-1724716800-1725148799@deeperlifeclapham.org
SUMMARY:Appointment with God - 27-31 Aug Regional Programme
DESCRIPTION:Regional Programme \nDetails: TBC
URL:https://deeperlifeclapham.org/https-deeperlifeclapham-org-upcoming-events/appointment-with-god-27-31-aug-regional-programme/
CATEGORIES:Regional,Special Events
END:VEVENT
BEGIN:VEVENT
DTSTART;TZID=UTC:20240817T153000
DTEND;TZID=UTC:20240817T183000
DTSTAMP:20260424T083344
CREATED:20240407T180131Z
LAST-MODIFIED:20240522T181752Z
UID:2050-1723908600-1723919400@deeperlifeclapham.org
SUMMARY:Workers' Meeting - 17th Aug Regional Programme
DESCRIPTION:Regional Programme \nZoom Meeting ID: 396 569 886\nPasscode: 252166
URL:https://deeperlifeclapham.org/https-deeperlifeclapham-org-upcoming-events/workers-meeting-17th-aug-regional-programme/
CATEGORIES:Regional,Workers’ Meeting
END:VEVENT
BEGIN:VEVENT
DTSTART;TZID=UTC:20240817T000000
DTEND;TZID=UTC:20240817T235959
DTSTAMP:20260424T083344
CREATED:20240407T180234Z
LAST-MODIFIED:20240522T181855Z
UID:2052-1723852800-1723939199@deeperlifeclapham.org
SUMMARY:Women of Valour - 17 Aug Regional Programme
DESCRIPTION:Regional Programme \nZoom Meeting ID: 396 569 886\nPasscode: 252166 \nTimings: TBC
URL:https://deeperlifeclapham.org/https-deeperlifeclapham-org-upcoming-events/women-of-valour-17-aug-regional-programme/
CATEGORIES:Regional,Women
END:VEVENT
BEGIN:VEVENT
DTSTART;TZID=UTC:20240803T153000
DTEND;TZID=UTC:20240803T180000
DTSTAMP:20260424T083344
CREATED:20240407T175921Z
LAST-MODIFIED:20240522T181752Z
UID:2046-1722699000-1722708000@deeperlifeclapham.org
SUMMARY:Workers' Meeting - 03 Aug Regional Programme
DESCRIPTION:Regional Programme \nZoom Meeting ID: 396 569 886\nPasscode: 252166
URL:https://deeperlifeclapham.org/https-deeperlifeclapham-org-upcoming-events/workers-meeting-03-aug-regional-programme/
CATEGORIES:Regional,Workers’ Meeting
END:VEVENT
BEGIN:VEVENT
DTSTART;TZID=UTC:20240727T120000
DTEND;TZID=UTC:20240727T150000
DTSTAMP:20260424T083344
CREATED:20240407T175154Z
LAST-MODIFIED:20240522T181727Z
UID:2035-1722081600-1722092400@deeperlifeclapham.org
SUMMARY:Harlesden Evangelism - 27 Jul Regional Programme
DESCRIPTION:Regional Programme \nLocation: TBC
URL:https://deeperlifeclapham.org/https-deeperlifeclapham-org-upcoming-events/harlesden-evangelism-27-jul-regional-programme/
CATEGORIES:Evangelism,Harlesden,Regional
END:VEVENT
BEGIN:VEVENT
DTSTART;TZID=UTC:20240727T090000
DTEND;TZID=UTC:20240727T160000
DTSTAMP:20260424T083344
CREATED:20240407T175332Z
LAST-MODIFIED:20240522T181604Z
UID:2037-1722070800-1722096000@deeperlifeclapham.org
SUMMARY:Young Adult Programme - 27 Jul Regional Programme
DESCRIPTION:Regional Programme \nDetails: TBC
URL:https://deeperlifeclapham.org/https-deeperlifeclapham-org-upcoming-events/young-adult-programme-27-jul-regional-programme/
LOCATION:Young Adult Programme\, 66 St John's Hill\, London\, SW11 1AD\, United Kingdom
CATEGORIES:Regional,Special Events,Young Adults
END:VEVENT
BEGIN:VEVENT
DTSTART;TZID=UTC:20240726T230000
DTEND;TZID=UTC:20240727T010000
DTSTAMP:20260424T083344
CREATED:20240407T175454Z
LAST-MODIFIED:20240522T181522Z
UID:2040-1722034800-1722042000@deeperlifeclapham.org
SUMMARY:Night Vigil - 26 Jul Regional Programme
DESCRIPTION:Regional Programme \nZoom Meeting ID: 396 569 886\nPasscode: 252166
URL:https://deeperlifeclapham.org/https-deeperlifeclapham-org-upcoming-events/night-vigil-26-jul-regional-programme/
CATEGORIES:Night Vigil,Regional
END:VEVENT
BEGIN:VEVENT
DTSTART;TZID=UTC:20240720T153000
DTEND;TZID=UTC:20240720T180000
DTSTAMP:20260424T083344
CREATED:20240407T175100Z
LAST-MODIFIED:20240522T181004Z
UID:2033-1721489400-1721498400@deeperlifeclapham.org
SUMMARY:Workers' Meeting - 20 Jul Regional Programme
DESCRIPTION:Regional Programme \nZoom Meeting ID: 396 569 886\nPasscode: 252166
URL:https://deeperlifeclapham.org/https-deeperlifeclapham-org-upcoming-events/workers-meeting-20-jul-regional-programme/
CATEGORIES:Regional,Workers’ Meeting
END:VEVENT
BEGIN:VEVENT
DTSTART;TZID=UTC:20240706T153000
DTEND;TZID=UTC:20240706T180000
DTSTAMP:20260424T083344
CREATED:20240407T174749Z
LAST-MODIFIED:20240522T181004Z
UID:2027-1720279800-1720288800@deeperlifeclapham.org
SUMMARY:Workers' Meeting - 06 Jul Regional Programme
DESCRIPTION:Regional Programme \nZoom Meeting ID: 396 569 886\nPasscode: 252166
URL:https://deeperlifeclapham.org/https-deeperlifeclapham-org-upcoming-events/workers-meeting-06-jul-regional-programme/
CATEGORIES:Regional,Workers’ Meeting
END:VEVENT
BEGIN:VEVENT
DTSTART;TZID=UTC:20240706T120000
DTEND;TZID=UTC:20240706T153000
DTSTAMP:20260424T083344
CREATED:20240407T174844Z
LAST-MODIFIED:20240522T181327Z
UID:2029-1720267200-1720279800@deeperlifeclapham.org
SUMMARY:Southampton Evangelism - 06 Jul Regional Programme
DESCRIPTION:Regional Programme – In person \nLocation: TBC
URL:https://deeperlifeclapham.org/https-deeperlifeclapham-org-upcoming-events/southampton-evangelism-06-jul-regional-programme/
CATEGORIES:Evangelism,Regional,Southampton
END:VEVENT
BEGIN:VEVENT
DTSTART;TZID=UTC:20240706T120000
DTEND;TZID=UTC:20240706T150000
DTSTAMP:20260424T083344
CREATED:20240407T174943Z
LAST-MODIFIED:20240522T181257Z
UID:2031-1720267200-1720278000@deeperlifeclapham.org
SUMMARY:Hackney Evangelism - 13 Jul Regional Programme
DESCRIPTION:Regional Programme – In person \nLocation: TBC
URL:https://deeperlifeclapham.org/https-deeperlifeclapham-org-upcoming-events/hackney-evangelism-13-jul-regional-programme/
CATEGORIES:Evangelism,Hackney,Regional
END:VEVENT
BEGIN:VEVENT
DTSTART;TZID=UTC:20240616T100000
DTEND;TZID=UTC:20240616T130000
DTSTAMP:20260424T083344
CREATED:20240407T173412Z
LAST-MODIFIED:20240522T181237Z
UID:2015-1718532000-1718542800@deeperlifeclapham.org
SUMMARY:Father's Day - 16 Jun Regional Programme
DESCRIPTION:Regional Programme – In local churches
URL:https://deeperlifeclapham.org/https-deeperlifeclapham-org-upcoming-events/fathers-day-16-jun-regional-programme/
CATEGORIES:Regional
END:VEVENT
BEGIN:VEVENT
DTSTART;TZID=UTC:20240615T153000
DTEND;TZID=UTC:20240615T180000
DTSTAMP:20260424T083344
CREATED:20240407T172954Z
LAST-MODIFIED:20240522T181004Z
UID:2009-1718465400-1718474400@deeperlifeclapham.org
SUMMARY:Workers' Meeting - 15 June Regional Programme
DESCRIPTION:Regional Programme \nZoom Meeting ID: 396 569 886\nPasscode: 252166
URL:https://deeperlifeclapham.org/https-deeperlifeclapham-org-upcoming-events/workers-meeting-15-june-regional-programme/
CATEGORIES:Regional,Workers’ Meeting
END:VEVENT
BEGIN:VEVENT
DTSTART;TZID=UTC:20240615T120000
DTEND;TZID=UTC:20240615T163000
DTSTAMP:20260424T083344
CREATED:20240407T173302Z
LAST-MODIFIED:20240522T181211Z
UID:2011-1718452800-1718469000@deeperlifeclapham.org
SUMMARY:Bournemouth Evangelism - 15 Jun Regional Programme
DESCRIPTION:Regional Programme – In person
URL:https://deeperlifeclapham.org/https-deeperlifeclapham-org-upcoming-events/bournemouth-evangelism-15-jun-regional-programme/
LOCATION:Bournemouth Evangelism\, 11 Bourne Ave\, Bournemouth\, BH2 6DT\, United Kingdom
CATEGORIES:Bournemouth,Evangelism,Regional
END:VEVENT
BEGIN:VEVENT
DTSTART;TZID=UTC:20240601T153000
DTEND;TZID=UTC:20240601T180000
DTSTAMP:20260424T083344
CREATED:20240407T172808Z
LAST-MODIFIED:20240522T181004Z
UID:2007-1717255800-1717264800@deeperlifeclapham.org
SUMMARY:Workers Meeting - 01 Jun Regional Programme
DESCRIPTION:Regional Programme \nZoom Meeting ID: 396 569 886\nPasscode: 252166
URL:https://deeperlifeclapham.org/https-deeperlifeclapham-org-upcoming-events/workers-meeting-01-jun-regional-programme/
CATEGORIES:Regional,Workers’ Meeting
END:VEVENT
BEGIN:VEVENT
DTSTART;TZID=UTC:20240601T110000
DTEND;TZID=UTC:20240601T163000
DTSTAMP:20260424T083344
CREATED:20240407T172657Z
LAST-MODIFIED:20240522T191719Z
UID:2004-1717239600-1717259400@deeperlifeclapham.org
SUMMARY:Children's Day - 01 Jun Regional Programme
DESCRIPTION:
URL:https://deeperlifeclapham.org/https-deeperlifeclapham-org-upcoming-events/childrens-day-01-jun-regional-programme/
LOCATION:Transformation House (HQ)\, 66 St John's Hill\, London\, SW11 1AD\, United Kingdom
CATEGORIES:Children’s Day,Regional,Special Events
ATTACH;FMTTYPE=image/jpeg:https://deeperlifeclapham.org/wp-content/uploads/2024/04/poster_children_program_2024-Custom.jpg
END:VEVENT
BEGIN:VEVENT
DTSTART;TZID=UTC:20240524T000000
DTEND;TZID=UTC:20240525T235959
DTSTAMP:20260424T083344
CREATED:20240407T172502Z
LAST-MODIFIED:20240522T180507Z
UID:2002-1716508800-1716681599@deeperlifeclapham.org
SUMMARY:Prayer Warriors' Away with God - 24-25 May Regional Programme
DESCRIPTION:Regional Programme- Residential \nLocation: TBC
URL:https://deeperlifeclapham.org/https-deeperlifeclapham-org-upcoming-events/prayer-warriors-away-with-god-24-25-may-regional-programme/
CATEGORIES:Regional
END:VEVENT
BEGIN:VEVENT
DTSTART;TZID=UTC:20240518T153000
DTEND;TZID=UTC:20240518T180000
DTSTAMP:20260424T083344
CREATED:20240407T172403Z
LAST-MODIFIED:20240522T181004Z
UID:2000-1716046200-1716055200@deeperlifeclapham.org
SUMMARY:Workers' Meeting - 18 May Regional Programme
DESCRIPTION:Regional Programme \nZoom Meeting ID: 396 569 886\nPasscode: 252166
URL:https://deeperlifeclapham.org/https-deeperlifeclapham-org-upcoming-events/workers-meeting-18-may-regional-programme/
CATEGORIES:Regional,Workers’ Meeting
END:VEVENT
BEGIN:VEVENT
DTSTART;TZID=UTC:20240504T150000
DTEND;TZID=UTC:20240504T180000
DTSTAMP:20260424T083344
CREATED:20240407T172039Z
LAST-MODIFIED:20240522T181004Z
UID:1995-1714834800-1714845600@deeperlifeclapham.org
SUMMARY:Workers' Meeting (Face to Face) - 04 May Regional Programme
DESCRIPTION:Regional Programme
URL:https://deeperlifeclapham.org/https-deeperlifeclapham-org-upcoming-events/workers-meeting-face-to-face-04-may-regional-programme/
CATEGORIES:Regional,Workers’ Meeting
END:VEVENT
BEGIN:VEVENT
DTSTART;TZID=UTC:20240426T230000
DTEND;TZID=UTC:20240427T010000
DTSTAMP:20260424T083344
CREATED:20240407T171721Z
LAST-MODIFIED:20240522T181400Z
UID:1989-1714172400-1714179600@deeperlifeclapham.org
SUMMARY:Night Vigil - 26 Apr Regional Programme (Zoom)
DESCRIPTION:Regional Programme \nZoom Meeting ID: 396 569 886\nPasscode: 252166
URL:https://deeperlifeclapham.org/https-deeperlifeclapham-org-upcoming-events/night-vigil-26-apr-regional-programme-zoom/
LOCATION:Night Vigil\, United Kingdom
CATEGORIES:Night Vigil,Regional
END:VEVENT
BEGIN:VEVENT
DTSTART;TZID=UTC:20240420T000000
DTEND;TZID=UTC:20240420T235959
DTSTAMP:20260424T083344
CREATED:20240407T171221Z
LAST-MODIFIED:20240522T181004Z
UID:1984-1713571200-1713657599@deeperlifeclapham.org
SUMMARY:Workers' Meeting - 20 Apr Regional Programme
DESCRIPTION:Regional Programme \nZoom Meeting ID: 396 569 886\nPasscode: 252166
URL:https://deeperlifeclapham.org/https-deeperlifeclapham-org-upcoming-events/workers-meeting-20-apr-regional-programme/
CATEGORIES:Regional,Workers’ Meeting
END:VEVENT
END:VCALENDAR