BEGIN:VCALENDAR
VERSION:2.0
PRODID:-//Deeper Life Borough - ECPv6.15.19//NONSGML v1.0//EN
CALSCALE:GREGORIAN
METHOD:PUBLISH
X-ORIGINAL-URL:https://deeperlifeclapham.org
X-WR-CALDESC:Events for Deeper Life Borough
REFRESH-INTERVAL;VALUE=DURATION:PT1H
X-Robots-Tag:noindex
X-PUBLISHED-TTL:PT1H
BEGIN:VTIMEZONE
TZID:UTC
BEGIN:STANDARD
TZOFFSETFROM:+0000
TZOFFSETTO:+0000
TZNAME:UTC
DTSTART:20230101T000000
END:STANDARD
END:VTIMEZONE
BEGIN:VEVENT
DTSTART;TZID=UTC:20240706T120000
DTEND;TZID=UTC:20240706T153000
DTSTAMP:20260424T073546
CREATED:20240407T174844Z
LAST-MODIFIED:20240522T181327Z
UID:2029-1720267200-1720279800@deeperlifeclapham.org
SUMMARY:Southampton Evangelism - 06 Jul Regional Programme
DESCRIPTION:Regional Programme – In person \nLocation: TBC
URL:https://deeperlifeclapham.org/https-deeperlifeclapham-org-upcoming-events/southampton-evangelism-06-jul-regional-programme/
CATEGORIES:Evangelism,Regional,Southampton
END:VEVENT
END:VCALENDAR