BEGIN:VCALENDAR
VERSION:2.0
PRODID:-//Deeper Life Borough - ECPv6.15.19//NONSGML v1.0//EN
CALSCALE:GREGORIAN
METHOD:PUBLISH
X-ORIGINAL-URL:https://deeperlifeclapham.org
X-WR-CALDESC:Events for Deeper Life Borough
REFRESH-INTERVAL;VALUE=DURATION:PT1H
X-Robots-Tag:noindex
X-PUBLISHED-TTL:PT1H
BEGIN:VTIMEZONE
TZID:UTC
BEGIN:STANDARD
TZOFFSETFROM:+0000
TZOFFSETTO:+0000
TZNAME:UTC
DTSTART:20230101T000000
END:STANDARD
END:VTIMEZONE
BEGIN:VEVENT
DTSTART;TZID=UTC:20240518T153000
DTEND;TZID=UTC:20240518T180000
DTSTAMP:20260424T073716
CREATED:20240407T172403Z
LAST-MODIFIED:20240522T181004Z
UID:2000-1716046200-1716055200@deeperlifeclapham.org
SUMMARY:Workers' Meeting - 18 May Regional Programme
DESCRIPTION:Regional Programme \nZoom Meeting ID: 396 569 886\nPasscode: 252166
URL:https://deeperlifeclapham.org/https-deeperlifeclapham-org-upcoming-events/workers-meeting-18-may-regional-programme/
CATEGORIES:Regional,Workers’ Meeting
END:VEVENT
BEGIN:VEVENT
DTSTART;TZID=UTC:20240504T150000
DTEND;TZID=UTC:20240504T180000
DTSTAMP:20260424T073716
CREATED:20240407T172039Z
LAST-MODIFIED:20240522T181004Z
UID:1995-1714834800-1714845600@deeperlifeclapham.org
SUMMARY:Workers' Meeting (Face to Face) - 04 May Regional Programme
DESCRIPTION:Regional Programme
URL:https://deeperlifeclapham.org/https-deeperlifeclapham-org-upcoming-events/workers-meeting-face-to-face-04-may-regional-programme/
CATEGORIES:Regional,Workers’ Meeting
END:VEVENT
BEGIN:VEVENT
DTSTART;TZID=UTC:20240420T000000
DTEND;TZID=UTC:20240420T235959
DTSTAMP:20260424T073716
CREATED:20240407T171221Z
LAST-MODIFIED:20240522T181004Z
UID:1984-1713571200-1713657599@deeperlifeclapham.org
SUMMARY:Workers' Meeting - 20 Apr Regional Programme
DESCRIPTION:Regional Programme \nZoom Meeting ID: 396 569 886\nPasscode: 252166
URL:https://deeperlifeclapham.org/https-deeperlifeclapham-org-upcoming-events/workers-meeting-20-apr-regional-programme/
CATEGORIES:Regional,Workers’ Meeting
END:VEVENT
END:VCALENDAR