BEGIN:VCALENDAR
VERSION:2.0
PRODID:-//Deeper Life Borough - ECPv6.15.19//NONSGML v1.0//EN
CALSCALE:GREGORIAN
METHOD:PUBLISH
X-ORIGINAL-URL:https://deeperlifeclapham.org
X-WR-CALDESC:Events for Deeper Life Borough
REFRESH-INTERVAL;VALUE=DURATION:PT1H
X-Robots-Tag:noindex
X-PUBLISHED-TTL:PT1H
BEGIN:VTIMEZONE
TZID:Europe/London
BEGIN:DAYLIGHT
TZOFFSETFROM:+0000
TZOFFSETTO:+0100
TZNAME:BST
DTSTART:20240331T010000
END:DAYLIGHT
BEGIN:STANDARD
TZOFFSETFROM:+0100
TZOFFSETTO:+0000
TZNAME:GMT
DTSTART:20241027T010000
END:STANDARD
BEGIN:DAYLIGHT
TZOFFSETFROM:+0000
TZOFFSETTO:+0100
TZNAME:BST
DTSTART:20250330T010000
END:DAYLIGHT
BEGIN:STANDARD
TZOFFSETFROM:+0100
TZOFFSETTO:+0000
TZNAME:GMT
DTSTART:20251026T010000
END:STANDARD
BEGIN:DAYLIGHT
TZOFFSETFROM:+0000
TZOFFSETTO:+0100
TZNAME:BST
DTSTART:20260329T010000
END:DAYLIGHT
BEGIN:STANDARD
TZOFFSETFROM:+0100
TZOFFSETTO:+0000
TZNAME:GMT
DTSTART:20261025T010000
END:STANDARD
END:VTIMEZONE
BEGIN:VTIMEZONE
TZID:UTC
BEGIN:STANDARD
TZOFFSETFROM:+0000
TZOFFSETTO:+0000
TZNAME:UTC
DTSTART:20240101T000000
END:STANDARD
END:VTIMEZONE
BEGIN:VTIMEZONE
TZID:UTC
BEGIN:STANDARD
TZOFFSETFROM:+0000
TZOFFSETTO:+0000
TZNAME:UTC
DTSTART:20240101T000000
END:STANDARD
END:VTIMEZONE
BEGIN:VEVENT
DTSTART;TZID=Europe/London:20250927T153000
DTEND;TZID=Europe/London:20250927T190000
DTSTAMP:20260423T164928
CREATED:20241218T200315Z
LAST-MODIFIED:20241218T200316Z
UID:2525-1758987000-1758999600@deeperlifeclapham.org
SUMMARY:Workers' Meeting
DESCRIPTION:
URL:https://deeperlifeclapham.org/https-deeperlifeclapham-org-upcoming-events/workers-meeting-6/
CATEGORIES:Regional,Workers’ Meeting
END:VEVENT
BEGIN:VEVENT
DTSTART;TZID=UTC:20250925T160000
DTEND;TZID=UTC:20250930T160000
DTSTAMP:20260423T164928
CREATED:20241218T200420Z
LAST-MODIFIED:20241218T200421Z
UID:2527-1758816000-1759248000@deeperlifeclapham.org
SUMMARY:GCK
DESCRIPTION:
URL:https://deeperlifeclapham.org/https-deeperlifeclapham-org-upcoming-events/gck-3/
CATEGORIES:GCK,Special Events
ORGANIZER;CN="Global Crusade With Kumuyi":MAILTO:info@gckhq.org
END:VEVENT
BEGIN:VEVENT
DTSTART;TZID=Europe/London:20250920T000000
DTEND;TZID=Europe/London:20250920T235959
DTSTAMP:20260423T164928
CREATED:20241218T200114Z
LAST-MODIFIED:20241218T200114Z
UID:2523-1758326400-1758412799@deeperlifeclapham.org
SUMMARY:Seasoned Men (Virtual)
DESCRIPTION:TBD
URL:https://deeperlifeclapham.org/https-deeperlifeclapham-org-upcoming-events/seasoned-men-virtual/
CATEGORIES:National,Online
END:VEVENT
BEGIN:VEVENT
DTSTART;TZID=Europe/London:20250906T153000
DTEND;TZID=Europe/London:20250906T190000
DTSTAMP:20260423T164928
CREATED:20241218T200015Z
LAST-MODIFIED:20241218T200016Z
UID:2521-1757172600-1757185200@deeperlifeclapham.org
SUMMARY:Workers' Meeting
DESCRIPTION:
URL:https://deeperlifeclapham.org/https-deeperlifeclapham-org-upcoming-events/workers-meeting-5/
CATEGORIES:Regional,Workers’ Meeting
END:VEVENT
BEGIN:VEVENT
DTSTART;TZID=Europe/London:20250905T000000
DTEND;TZID=Europe/London:20250905T235959
DTSTAMP:20260423T164928
CREATED:20241218T195908Z
LAST-MODIFIED:20241218T195908Z
UID:2519-1757030400-1757116799@deeperlifeclapham.org
SUMMARY:Group Night Vigil
DESCRIPTION:Time TBD
URL:https://deeperlifeclapham.org/https-deeperlifeclapham-org-upcoming-events/group-night-vigil/
CATEGORIES:Night Vigil,Regional
END:VEVENT
BEGIN:VEVENT
DTSTART;TZID=UTC:20250828T160000
DTEND;TZID=UTC:20250902T160000
DTSTAMP:20260423T164928
CREATED:20241218T195256Z
LAST-MODIFIED:20241218T195702Z
UID:2514-1756396800-1756828800@deeperlifeclapham.org
SUMMARY:GCK
DESCRIPTION:
URL:https://deeperlifeclapham.org/https-deeperlifeclapham-org-upcoming-events/gck-2/
CATEGORIES:GCK,Online,Special Events
ORGANIZER;CN="Global Crusade With Kumuyi":MAILTO:info@gckhq.org
END:VEVENT
BEGIN:VEVENT
DTSTART;TZID=Europe/London:20250823T000000
DTEND;TZID=Europe/London:20250823T235959
DTSTAMP:20260423T164928
CREATED:20241218T195032Z
LAST-MODIFIED:20241218T195032Z
UID:2512-1755907200-1755993599@deeperlifeclapham.org
SUMMARY:Group Evangelism II
DESCRIPTION:TBD
URL:https://deeperlifeclapham.org/https-deeperlifeclapham-org-upcoming-events/group-evangelism-ii/
CATEGORIES:Evangelism,Regional,Special Events
END:VEVENT
BEGIN:VEVENT
DTSTART;TZID=Europe/London:20250816T153000
DTEND;TZID=Europe/London:20250816T190000
DTSTAMP:20260423T164928
CREATED:20241218T194936Z
LAST-MODIFIED:20241218T194937Z
UID:2510-1755358200-1755370800@deeperlifeclapham.org
SUMMARY:Workers' Meeting
DESCRIPTION:
URL:https://deeperlifeclapham.org/https-deeperlifeclapham-org-upcoming-events/workers-meeting-4/
CATEGORIES:Regional,Workers’ Meeting
END:VEVENT
BEGIN:VEVENT
DTSTART;TZID=Europe/London:20250809T000000
DTEND;TZID=Europe/London:20250809T235959
DTSTAMP:20260423T164928
CREATED:20241218T194815Z
LAST-MODIFIED:20241218T194816Z
UID:2508-1754697600-1754783999@deeperlifeclapham.org
SUMMARY:Women of Valour
DESCRIPTION:TBD
URL:https://deeperlifeclapham.org/https-deeperlifeclapham-org-upcoming-events/women-of-valour/
CATEGORIES:Regional,Special Events,Women
END:VEVENT
BEGIN:VEVENT
DTSTART;TZID=Europe/London:20250802T153000
DTEND;TZID=Europe/London:20250802T190000
DTSTAMP:20260423T164928
CREATED:20241218T194510Z
LAST-MODIFIED:20241218T194511Z
UID:2504-1754148600-1754161200@deeperlifeclapham.org
SUMMARY:Workers' Meeting
DESCRIPTION:
URL:https://deeperlifeclapham.org/https-deeperlifeclapham-org-upcoming-events/workers-meeting-3/
CATEGORIES:Regional,Workers’ Meeting
END:VEVENT
BEGIN:VEVENT
DTSTART;TZID=Europe/London:20250801T000000
DTEND;TZID=Europe/London:20250802T235959
DTSTAMP:20260423T164928
CREATED:20241218T194657Z
LAST-MODIFIED:20241218T194657Z
UID:2506-1754006400-1754179199@deeperlifeclapham.org
SUMMARY:Youth & Young Adult Conference
DESCRIPTION:TBD
URL:https://deeperlifeclapham.org/https-deeperlifeclapham-org-upcoming-events/youth-young-adult-conference/
CATEGORIES:National,Young Adults
END:VEVENT
BEGIN:VEVENT
DTSTART;TZID=UTC:20250724T160000
DTEND;TZID=UTC:20250729T160000
DTSTAMP:20260423T164928
CREATED:20241218T193646Z
LAST-MODIFIED:20241218T195617Z
UID:2498-1753372800-1753804800@deeperlifeclapham.org
SUMMARY:GCK
DESCRIPTION:Live YouTube Link: https://www.youtube.com/@DCLMHQ/streams
URL:https://deeperlifeclapham.org/https-deeperlifeclapham-org-upcoming-events/gck/
CATEGORIES:GCK,Online,Special Events
ORGANIZER;CN="Global Crusade With Kumuyi":MAILTO:info@gckhq.org
END:VEVENT
BEGIN:VEVENT
DTSTART;TZID=Europe/London:20250719T153000
DTEND;TZID=Europe/London:20250719T190000
DTSTAMP:20260423T164928
CREATED:20241218T193422Z
LAST-MODIFIED:20241218T193906Z
UID:2496-1752939000-1752951600@deeperlifeclapham.org
SUMMARY:Workers' Meeting
DESCRIPTION:
URL:https://deeperlifeclapham.org/https-deeperlifeclapham-org-upcoming-events/workers-meeting-2/
CATEGORIES:Regional,Workers’ Meeting
END:VEVENT
BEGIN:VEVENT
DTSTART;TZID=UTC:20250719T140000
DTEND;TZID=UTC:20250719T173000
DTSTAMP:20260423T164928
CREATED:20241218T193321Z
LAST-MODIFIED:20250601T210505Z
UID:2494-1752933600-1752946200@deeperlifeclapham.org
SUMMARY:Living Hope Concert 2025
DESCRIPTION:Get ready for an unforgettable afternoon as Living Hope Concert returns—reimagined\, remastered and better than ever! \n\n\n\n \n\n\n\n\n\n\n\nJoin DLBC Greater London Young Adults at Living Hope 2025: A Soul-stirring Journey of Grace and Redemption 🎤🕊 \n\n\n\n🗓️ Saturday July 19\, 2025 \n\n\n\n⏰Doors Open at 1:30 PM \n\n\n\n📍Transformation House\, 66 St John’s Hill\, Clapham\, London\, SW11 1AD \n\n\n\nExperience: \n\n\n\n💙 Uplifting praise and restorative worship \n\n\n\n💙 Breathtaking solos and duets \n\n\n\n💙 Instrumentals and harmonious choir performances \n\n\n\n💙 Unique storytelling of the Prodigal Son from the brother’s perspective \n\n\n\n💙 Captivating narration \n\n\n\nWhy you should attend: \n\n\n\n🔥 Be a part of a powerful live worship experience \n\n\n\n✨Be stirred by a message of forgiveness and acceptance \n\n\n\n🙏 Connect with the community in a meaningful way  \n\n\n\n🙌 Leave inspired\, uplifted\, and renewed \n\n\n\nFREE ENTRY…hurry\, register and secure your ticket now! https://www.eventbrite.co.uk/e/living-hope-concert-2025-tickets-1330747223769 \n\n\n\n📲 Follow us for updates: \n\n\n\nInstagram: @dclm_hounslow_yaf
URL:https://deeperlifeclapham.org/https-deeperlifeclapham-org-upcoming-events/young-adult-programme/
LOCATION:Transformation House (HQ)\, 66 St John's Hill\, London\, SW11 1AD\, United Kingdom
CATEGORIES:Regional,Special Events,Young Adults
END:VEVENT
BEGIN:VEVENT
DTSTART;TZID=UTC:20250711T000000
DTEND;TZID=UTC:20250712T235959
DTSTAMP:20260423T164928
CREATED:20241218T192955Z
LAST-MODIFIED:20241218T192956Z
UID:2490-1752192000-1752364799@deeperlifeclapham.org
SUMMARY:Mature Singles Conference (Residential)
DESCRIPTION:TBD
URL:https://deeperlifeclapham.org/https-deeperlifeclapham-org-upcoming-events/mature-singles-conference-residential/
CATEGORIES:Matured Singles Conference,National,Special Events
END:VEVENT
BEGIN:VEVENT
DTSTART;TZID=Europe/London:20250705T153000
DTEND;TZID=Europe/London:20250705T190000
DTSTAMP:20260423T164928
CREATED:20241218T193215Z
LAST-MODIFIED:20241218T193216Z
UID:2492-1751729400-1751742000@deeperlifeclapham.org
SUMMARY:Workers' Meeting
DESCRIPTION:
URL:https://deeperlifeclapham.org/https-deeperlifeclapham-org-upcoming-events/workers-meeting/
CATEGORIES:Regional,Workers’ Meeting
END:VEVENT
BEGIN:VEVENT
DTSTART;TZID=Europe/London:20250626T080000
DTEND;TZID=Europe/London:20250701T170000
DTSTAMP:20260423T164928
CREATED:20250123T002159Z
LAST-MODIFIED:20250123T002200Z
UID:2604-1750924800-1751389200@deeperlifeclapham.org
SUMMARY:GCK
DESCRIPTION:
URL:https://deeperlifeclapham.org/https-deeperlifeclapham-org-upcoming-events/gck-8/
END:VEVENT
BEGIN:VEVENT
DTSTART;TZID=Europe/London:20250621T153000
DTEND;TZID=Europe/London:20250621T180000
DTSTAMP:20260423T164928
CREATED:20250123T002047Z
LAST-MODIFIED:20250123T002047Z
UID:2602-1750519800-1750528800@deeperlifeclapham.org
SUMMARY:Worker's Meeting
DESCRIPTION:Fortnightly Workers Meeting
URL:https://deeperlifeclapham.org/https-deeperlifeclapham-org-upcoming-events/workers-meeting-18/
END:VEVENT
BEGIN:VEVENT
DTSTART;TZID=Europe/London:20250620T220000
DTEND;TZID=Europe/London:20250621T020000
DTSTAMP:20260423T164928
CREATED:20250123T001726Z
LAST-MODIFIED:20250123T001727Z
UID:2598-1750456800-1750471200@deeperlifeclapham.org
SUMMARY:Group Night Vigil
DESCRIPTION:
URL:https://deeperlifeclapham.org/https-deeperlifeclapham-org-upcoming-events/group-night-vigil-3/
END:VEVENT
BEGIN:VEVENT
DTSTART;TZID=Europe/London:20250620T120000
DTEND;TZID=Europe/London:20250622T123000
DTSTAMP:20260423T164928
CREATED:20250123T002010Z
LAST-MODIFIED:20250601T205724Z
UID:2600-1750420800-1750595400@deeperlifeclapham.org
SUMMARY:Singles Conference (Self- Funded)
DESCRIPTION:Link: https://www.dclmukire.org/events-1/national-singles-conference-2025
URL:https://deeperlifeclapham.org/https-deeperlifeclapham-org-upcoming-events/singles-conference-self-funded/
LOCATION:Keele University\, Keele\, Newcastle-under-Lyme\, ST5 5BG\, UK\, Keele\, Staffordshire\, ST5 5BG\, United Kingdom
END:VEVENT
BEGIN:VEVENT
DTSTART;TZID=Europe/London:20250615T100000
DTEND;TZID=Europe/London:20250615T140000
DTSTAMP:20260423T164928
CREATED:20250123T001645Z
LAST-MODIFIED:20250123T001646Z
UID:2596-1749981600-1749996000@deeperlifeclapham.org
SUMMARY:Father's Day
DESCRIPTION:
URL:https://deeperlifeclapham.org/https-deeperlifeclapham-org-upcoming-events/fathers-day/
END:VEVENT
BEGIN:VEVENT
DTSTART;TZID=Europe/London:20250614T080000
DTEND;TZID=Europe/London:20250614T170000
DTSTAMP:20260423T164928
CREATED:20250123T001618Z
LAST-MODIFIED:20250123T001619Z
UID:2594-1749888000-1749920400@deeperlifeclapham.org
SUMMARY:Group Evangelism I
DESCRIPTION:
URL:https://deeperlifeclapham.org/https-deeperlifeclapham-org-upcoming-events/group-evangelism-i/
END:VEVENT
BEGIN:VEVENT
DTSTART;TZID=Europe/London:20250607T153000
DTEND;TZID=Europe/London:20250607T180000
DTSTAMP:20260423T164928
CREATED:20250123T001514Z
LAST-MODIFIED:20250123T001515Z
UID:2592-1749310200-1749319200@deeperlifeclapham.org
SUMMARY:Workers' Meeting
DESCRIPTION:Fortnightly Workers Meeting
URL:https://deeperlifeclapham.org/https-deeperlifeclapham-org-upcoming-events/workers-meeting-17/
END:VEVENT
BEGIN:VEVENT
DTSTART;TZID=Europe/London:20250531T100000
DTEND;TZID=Europe/London:20250531T170000
DTSTAMP:20260423T164928
CREATED:20250123T000643Z
LAST-MODIFIED:20250123T000644Z
UID:2590-1748685600-1748710800@deeperlifeclapham.org
SUMMARY:Children Variety Day
DESCRIPTION:
URL:https://deeperlifeclapham.org/https-deeperlifeclapham-org-upcoming-events/children-variety-day/
END:VEVENT
BEGIN:VEVENT
DTSTART;TZID=Europe/London:20250522T080000
DTEND;TZID=Europe/London:20250527T170000
DTSTAMP:20260423T164928
CREATED:20250123T000526Z
LAST-MODIFIED:20250123T000527Z
UID:2588-1747900800-1748365200@deeperlifeclapham.org
SUMMARY:GCK
DESCRIPTION:
URL:https://deeperlifeclapham.org/https-deeperlifeclapham-org-upcoming-events/gck-7/
END:VEVENT
BEGIN:VEVENT
DTSTART;TZID=Europe/London:20250517T153000
DTEND;TZID=Europe/London:20250517T180000
DTSTAMP:20260423T164928
CREATED:20250123T000413Z
LAST-MODIFIED:20250123T000414Z
UID:2586-1747495800-1747504800@deeperlifeclapham.org
SUMMARY:Workers' Meeting
DESCRIPTION:Fortnightly Workers Meeting
URL:https://deeperlifeclapham.org/https-deeperlifeclapham-org-upcoming-events/workers-meeting-16/
END:VEVENT
BEGIN:VEVENT
DTSTART;TZID=Europe/London:20250509T080000
DTEND;TZID=Europe/London:20250511T170000
DTSTAMP:20260423T164928
CREATED:20250123T000303Z
LAST-MODIFIED:20250123T000304Z
UID:2584-1746777600-1746982800@deeperlifeclapham.org
SUMMARY:Break-Through Prayer Summit
DESCRIPTION:
URL:https://deeperlifeclapham.org/https-deeperlifeclapham-org-upcoming-events/break-through-prayer-summit/
END:VEVENT
BEGIN:VEVENT
DTSTART;TZID=Europe/London:20250503T033000
DTEND;TZID=Europe/London:20250503T180000
DTSTAMP:20260423T164928
CREATED:20250123T000200Z
LAST-MODIFIED:20250123T000201Z
UID:2582-1746243000-1746295200@deeperlifeclapham.org
SUMMARY:Workers' Meeting
DESCRIPTION:Fortnightly Workers Meeting
URL:https://deeperlifeclapham.org/https-deeperlifeclapham-org-upcoming-events/workers-meeting-15/
END:VEVENT
BEGIN:VEVENT
DTSTART;TZID=Europe/London:20250426T120000
DTEND;TZID=Europe/London:20250426T170000
DTSTAMP:20260423T164928
CREATED:20250122T235219Z
LAST-MODIFIED:20250122T235220Z
UID:2580-1745668800-1745686800@deeperlifeclapham.org
SUMMARY:Choir musical Development
DESCRIPTION:
URL:https://deeperlifeclapham.org/https-deeperlifeclapham-org-upcoming-events/choir-musical-development/
END:VEVENT
BEGIN:VEVENT
DTSTART;TZID=Europe/London:20250426T080000
DTEND;TZID=Europe/London:20250426T170000
DTSTAMP:20260423T164928
CREATED:20250122T234924Z
LAST-MODIFIED:20250122T234924Z
UID:2578-1745654400-1745686800@deeperlifeclapham.org
SUMMARY:Workers' Meeting
DESCRIPTION:Fortnightly Workers Meeting
URL:https://deeperlifeclapham.org/https-deeperlifeclapham-org-upcoming-events/workers-meeting-14/
END:VEVENT
END:VCALENDAR